BEGIN:VCALENDAR
VERSION:2.0
PRODID:-//Brandon&#039;s B.A.C.C. - ECPv6.6.0.2//NONSGML v1.0//EN
CALSCALE:GREGORIAN
METHOD:PUBLISH
X-WR-CALNAME:Brandon&#039;s B.A.C.C.
X-ORIGINAL-URL:https://brandonsbacc.org
X-WR-CALDESC:Events for Brandon&#039;s B.A.C.C.
REFRESH-INTERVAL;VALUE=DURATION:PT1H
X-Robots-Tag:noindex
X-PUBLISHED-TTL:PT1H
BEGIN:VTIMEZONE
TZID:America/New_York
BEGIN:DAYLIGHT
TZOFFSETFROM:-0500
TZOFFSETTO:-0400
TZNAME:EDT
DTSTART:20230312T070000
END:DAYLIGHT
BEGIN:STANDARD
TZOFFSETFROM:-0400
TZOFFSETTO:-0500
TZNAME:EST
DTSTART:20231105T060000
END:STANDARD
END:VTIMEZONE
BEGIN:VEVENT
DTSTART;TZID=America/New_York:20230530T133000
DTEND;TZID=America/New_York:20230530T133000
DTSTAMP:20260422T080225
CREATED:20230719T044739Z
LAST-MODIFIED:20230719T044739Z
UID:841-1685453400-1685453400@brandonsbacc.org
SUMMARY:Surgical Post-Op
DESCRIPTION:Met with Surgical team for Post-Op from Biopsy.
URL:https://brandonsbacc.org/event/surgical-post-op/
CATEGORIES:Doctor Appointment
END:VEVENT
END:VCALENDAR