BEGIN:VCALENDAR
VERSION:2.0
PRODID:-//Brandon&#039;s B.A.C.C. - ECPv6.6.0.2//NONSGML v1.0//EN
CALSCALE:GREGORIAN
METHOD:PUBLISH
X-ORIGINAL-URL:https://brandonsbacc.org
X-WR-CALDESC:Events for Brandon&#039;s B.A.C.C.
REFRESH-INTERVAL;VALUE=DURATION:PT1H
X-Robots-Tag:noindex
X-PUBLISHED-TTL:PT1H
BEGIN:VTIMEZONE
TZID:America/New_York
BEGIN:DAYLIGHT
TZOFFSETFROM:-0500
TZOFFSETTO:-0400
TZNAME:EDT
DTSTART:20230312T070000
END:DAYLIGHT
BEGIN:STANDARD
TZOFFSETFROM:-0400
TZOFFSETTO:-0500
TZNAME:EST
DTSTART:20231105T060000
END:STANDARD
END:VTIMEZONE
BEGIN:VEVENT
DTSTART;TZID=America/New_York:20230526T080000
DTEND;TZID=America/New_York:20230526T123000
DTSTAMP:20260423T191221
CREATED:20230719T044441Z
LAST-MODIFIED:20230719T044441Z
UID:839-1685088000-1685104200@brandonsbacc.org
SUMMARY:Oncology Follow-Up
DESCRIPTION:Met with Oncology Team. Was informed it was malignant Tumor/Cancer. Most Likely Bone Cancer (Osteosarcoma). It was a holiday weekend\, so I did not share the news with anyone until after the holiday was over.
URL:https://brandonsbacc.org/event/oncology-follow-up/
CATEGORIES:Doctor Appointment
END:VEVENT
BEGIN:VEVENT
DTSTART;TZID=America/New_York:20230526T090000
DTEND;TZID=America/New_York:20230526T093000
DTSTAMP:20260423T191221
CREATED:20230719T042922Z
LAST-MODIFIED:20230719T043121Z
UID:833-1685091600-1685093400@brandonsbacc.org
SUMMARY:Imaging
DESCRIPTION:CT Scan
URL:https://brandonsbacc.org/event/imaging-2/
CATEGORIES:Doctor Appointment
END:VEVENT
BEGIN:VEVENT
DTSTART;TZID=America/New_York:20230526T100000
DTEND;TZID=America/New_York:20230526T103000
DTSTAMP:20260423T191221
CREATED:20230719T043311Z
LAST-MODIFIED:20230719T043311Z
UID:835-1685095200-1685097000@brandonsbacc.org
SUMMARY:Imaging
DESCRIPTION:PET Scan
URL:https://brandonsbacc.org/event/imaging-3/
CATEGORIES:Doctor Appointment
END:VEVENT
BEGIN:VEVENT
DTSTART;TZID=America/New_York:20230526T100000
DTEND;TZID=America/New_York:20230526T113000
DTSTAMP:20260423T191221
CREATED:20230719T043546Z
LAST-MODIFIED:20230719T043815Z
UID:837-1685095200-1685100600@brandonsbacc.org
SUMMARY:Imaging
DESCRIPTION:PET Scan with Contrast
URL:https://brandonsbacc.org/event/imaging-4/
CATEGORIES:Doctor Appointment
END:VEVENT
END:VCALENDAR